BEGIN:VCALENDAR
VERSION:2.0
PRODID:-//Cornwall Heritage Trust - ECPv6.15.20//NONSGML v1.0//EN
CALSCALE:GREGORIAN
METHOD:PUBLISH
X-WR-CALNAME:Cornwall Heritage Trust
X-ORIGINAL-URL:https://www.cornwallheritagetrust.org
X-WR-CALDESC:Events for Cornwall Heritage Trust
REFRESH-INTERVAL;VALUE=DURATION:PT1H
X-Robots-Tag:noindex
X-PUBLISHED-TTL:PT1H
BEGIN:VTIMEZONE
TZID:Europe/London
BEGIN:DAYLIGHT
TZOFFSETFROM:+0000
TZOFFSETTO:+0100
TZNAME:BST
DTSTART:20240331T010000
END:DAYLIGHT
BEGIN:STANDARD
TZOFFSETFROM:+0100
TZOFFSETTO:+0000
TZNAME:GMT
DTSTART:20241027T010000
END:STANDARD
BEGIN:DAYLIGHT
TZOFFSETFROM:+0000
TZOFFSETTO:+0100
TZNAME:BST
DTSTART:20250330T010000
END:DAYLIGHT
BEGIN:STANDARD
TZOFFSETFROM:+0100
TZOFFSETTO:+0000
TZNAME:GMT
DTSTART:20251026T010000
END:STANDARD
BEGIN:DAYLIGHT
TZOFFSETFROM:+0000
TZOFFSETTO:+0100
TZNAME:BST
DTSTART:20260329T010000
END:DAYLIGHT
BEGIN:STANDARD
TZOFFSETFROM:+0100
TZOFFSETTO:+0000
TZNAME:GMT
DTSTART:20261025T010000
END:STANDARD
BEGIN:DAYLIGHT
TZOFFSETFROM:+0000
TZOFFSETTO:+0100
TZNAME:BST
DTSTART:20270328T010000
END:DAYLIGHT
BEGIN:STANDARD
TZOFFSETFROM:+0100
TZOFFSETTO:+0000
TZNAME:GMT
DTSTART:20271031T010000
END:STANDARD
END:VTIMEZONE
BEGIN:VEVENT
DTSTART;VALUE=DATE:20251021
DTEND;VALUE=DATE:20260208
DTSTAMP:20260422T011018
CREATED:20250313T160416Z
LAST-MODIFIED:20260106T150324Z
UID:10000036-1761004800-1770508799@www.cornwallheritagetrust.org
SUMMARY:Pobel ha Leow / People and Places Exhibition
DESCRIPTION:Embark on a journey through the social history of the sites cared for by our charity and discover how they have been used to live\, work\, play and worship over the last 4\,000 years.\nLocation: Kresen Kernow\, Little Vauxhall\, Redruth\, TR15 1AS – What3Words: ///hence.smart.flamingo \nOpening hours: Tuesdays\, Wednesdays\, Thursdays and Saturdays from 9.30am to 4pm \nPrice: FREE \nFrom prehistoric rituals to industrial innovation to modern tourism\, people have continually adapted the land of Cornwall to their needs. This exhibition delves into the Kresen Kernow Collection and the archive of Cornwall Heritage Trust to explore the varied roles that some of these archaeological landscapes have played for Cornwall’s communities over time. \nThe stories it tells are intimate and\, at times\, deeply moving glimpses into the lives of the people who are at the heart of what makes Cornwall unique. \nThis exhibition is a partnership project between Kresen Kernow and Cornwall Heritage Trust\, in celebration of the 40th anniversary of the Trust. \nThe exhibition is part-funded by Poynton Bradbury Architects. \nAccess information for Kresen Kernow
URL:https://www.cornwallheritagetrust.org/event/pobel-ha-leow-people-and-places-exhibition/
LOCATION:Kresen Kernow\, Kresen Kernow\, Little Vauxhall\, Redruth\, TR15 1AS\, United Kingdom
ATTACH;FMTTYPE=image/png:https://www.cornwallheritagetrust.org/wp-content/uploads/2025/03/Artboard-1.png
ORGANIZER;CN="Cornwall Heritage Trust":MAILTO:tickets@cornwallheritagetrust.org
END:VEVENT
BEGIN:VEVENT
DTSTART;TZID=Europe/London:20251128T170000
DTEND;TZID=Europe/London:20251128T210000
DTSTAMP:20260422T011018
CREATED:20251114T104628Z
LAST-MODIFIED:20251114T111407Z
UID:10000118-1764349200-1764363600@www.cornwallheritagetrust.org
SUMMARY:Krowji Open Studios
DESCRIPTION:Get in the Christmas spirit and explore our festive shop in person!\n\n\n\nOpening Times:  \nFriday 28th November\, 5pm to 9pm\nSaturday 29th November\, 10am to 4pm\nSunday 30th November\, 10am to 4pm \nLocation: Cornwall Heritage Trust Offices\, G02\, Krowji\, West Park\, Redruth\, TR15 3GE\nWhat3Words: ///routs.mandolin.deduced \nIf you’re looking for the perfect present for that special someone who cherishes Cornwall’s heritage\, then don’t forget to stop by. We have a wealth of new and exclusive Christmas merchandise on offer and there really is something for everyone. \nThere will also be the chance to find out more about the impact of our charitable work\, fun-filled festive activities and a fundraising raffle. \nAll the profits from our shop support our work to preserve and strengthen Cornwall’s unique heritage\, and as a small independent charity\, every penny really does make a huge difference.
URL:https://www.cornwallheritagetrust.org/event/krowji-open-studios/2025-11-28/
LOCATION:Krowji\, Krowji\, West Park\, Redruth\, TR15 3AJ
CATEGORIES:Family Friendly Events
ATTACH;FMTTYPE=image/jpeg:https://www.cornwallheritagetrust.org/wp-content/uploads/2025/11/CHT-Wasson-ChristmasOpenStudios2025.jpg
ORGANIZER;CN="Cornwall Heritage Trust":MAILTO:tickets@cornwallheritagetrust.org
END:VEVENT
END:VCALENDAR