BEGIN:VCALENDAR
VERSION:2.0
PRODID:-//Cornwall Heritage Trust - ECPv6.15.20//NONSGML v1.0//EN
CALSCALE:GREGORIAN
METHOD:PUBLISH
X-WR-CALNAME:Cornwall Heritage Trust
X-ORIGINAL-URL:https://www.cornwallheritagetrust.org
X-WR-CALDESC:Events for Cornwall Heritage Trust
REFRESH-INTERVAL;VALUE=DURATION:PT1H
X-Robots-Tag:noindex
X-PUBLISHED-TTL:PT1H
BEGIN:VTIMEZONE
TZID:Europe/London
BEGIN:DAYLIGHT
TZOFFSETFROM:+0000
TZOFFSETTO:+0100
TZNAME:BST
DTSTART:20240331T010000
END:DAYLIGHT
BEGIN:STANDARD
TZOFFSETFROM:+0100
TZOFFSETTO:+0000
TZNAME:GMT
DTSTART:20241027T010000
END:STANDARD
BEGIN:DAYLIGHT
TZOFFSETFROM:+0000
TZOFFSETTO:+0100
TZNAME:BST
DTSTART:20250330T010000
END:DAYLIGHT
BEGIN:STANDARD
TZOFFSETFROM:+0100
TZOFFSETTO:+0000
TZNAME:GMT
DTSTART:20251026T010000
END:STANDARD
BEGIN:DAYLIGHT
TZOFFSETFROM:+0000
TZOFFSETTO:+0100
TZNAME:BST
DTSTART:20260329T010000
END:DAYLIGHT
BEGIN:STANDARD
TZOFFSETFROM:+0100
TZOFFSETTO:+0000
TZNAME:GMT
DTSTART:20261025T010000
END:STANDARD
END:VTIMEZONE
BEGIN:VEVENT
DTSTART;TZID=Europe/London:20250516T101500
DTEND;TZID=Europe/London:20250516T113000
DTSTAMP:20260421T120050
CREATED:20250313T152400Z
LAST-MODIFIED:20250513T160042Z
UID:10000025-1747390500-1747395000@www.cornwallheritagetrust.org
SUMMARY:St Cleer Holy Well Dressing Ceremony and Beacon Lighting
DESCRIPTION:Our annual Well Dressing Ceremony at St Cleer Holy Well and Cross will this year accompany the fourth instalment of our series of public beacon lightings to celebrate our charity’s 40th anniversary.\nLocation: St Cleer Holy Well and Cross\, St Cleer\, Liskeard\, PL14 5DX – What3Words: ///dart.regulates.releases \nPrice: FREE \nThe well dressing will involve the children from St Cleer Primary School and the local community. The blessing of the well will take place in Cornish and English\, with short prayers by the local Curate and singing. \nCornish dancing and the lighting of our specially commissioned mini-brazier will also take place. \nYou don’t need to be members and there’s no need to book. Just come along and enjoy! \nAbout the site \nThought to date from the early 16th century\, St Cleer Holy Well has been a site of pilgrimage across the centuries. It is unique in its open-sided architectural form and the mouldings on the building’s capitals are also unusual. The site came into the care of Cornwall Heritage Trust in November 2022 and was removed from the Heritage at Risk Register in November 2023. \n  \nThis event is in aid of Cornwall Heritage Trust – the small\, independent charity protecting Cornwall’s heritage for everyone.
URL:https://www.cornwallheritagetrust.org/event/st-cleer-beacon-lighting/
LOCATION:St Cleer Holy Well and Cross\, St Cleer's Well\, Well Path Cottage\, 2 Well Ln\, St Cleer\, Liskeard\, PL14 5DX\, United Kingdom
CATEGORIES:40th Anniversary Beacon Lighting,Family Friendly Events
ATTACH;FMTTYPE=image/jpeg:https://www.cornwallheritagetrust.org/wp-content/uploads/2025/03/CHT-Events-StCleerHolyWellandCross.jpg
ORGANIZER;CN="Cornwall Heritage Trust":MAILTO:tickets@cornwallheritagetrust.org
END:VEVENT
END:VCALENDAR