BEGIN:VCALENDAR
VERSION:2.0
PRODID:-//Cornwall Heritage Trust - ECPv6.15.20//NONSGML v1.0//EN
CALSCALE:GREGORIAN
METHOD:PUBLISH
X-WR-CALNAME:Cornwall Heritage Trust
X-ORIGINAL-URL:https://www.cornwallheritagetrust.org
X-WR-CALDESC:Events for Cornwall Heritage Trust
REFRESH-INTERVAL;VALUE=DURATION:PT1H
X-Robots-Tag:noindex
X-PUBLISHED-TTL:PT1H
BEGIN:VTIMEZONE
TZID:Europe/London
BEGIN:DAYLIGHT
TZOFFSETFROM:+0000
TZOFFSETTO:+0100
TZNAME:BST
DTSTART:20240331T010000
END:DAYLIGHT
BEGIN:STANDARD
TZOFFSETFROM:+0100
TZOFFSETTO:+0000
TZNAME:GMT
DTSTART:20241027T010000
END:STANDARD
BEGIN:DAYLIGHT
TZOFFSETFROM:+0000
TZOFFSETTO:+0100
TZNAME:BST
DTSTART:20250330T010000
END:DAYLIGHT
BEGIN:STANDARD
TZOFFSETFROM:+0100
TZOFFSETTO:+0000
TZNAME:GMT
DTSTART:20251026T010000
END:STANDARD
BEGIN:DAYLIGHT
TZOFFSETFROM:+0000
TZOFFSETTO:+0100
TZNAME:BST
DTSTART:20260329T010000
END:DAYLIGHT
BEGIN:STANDARD
TZOFFSETFROM:+0100
TZOFFSETTO:+0000
TZNAME:GMT
DTSTART:20261025T010000
END:STANDARD
END:VTIMEZONE
BEGIN:VEVENT
DTSTART;TZID=Europe/London:20250528T160000
DTEND;TZID=Europe/London:20250528T180000
DTSTAMP:20260421T080243
CREATED:20250313T154237Z
LAST-MODIFIED:20250326T142520Z
UID:10000029-1748448000-1748455200@www.cornwallheritagetrust.org
SUMMARY:Treffry Viaduct Beacon Lighting
DESCRIPTION:The penultimate instalment of our series of public beacon lightings to celebrate our charity’s 40th anniversary.\nLocation: Treffry Viaduct\, St Austell\, PL26 8YE – What3Words: ///routs.overhaul.indicate \nParking: Black Hill Car Park\, Luxulyan\, St Austell\, PL26 8YE – What3Words: ///coverings.shots.sticks \nOur specially commissioned mini-brazier will be lit by the Friends of Luxulyan Valley at 4.30pm. \nYou don’t need to be members and there’s no need to book. Just come along and enjoy! \nAbout the site \nTreffry Viaduct was built between 1839 and 1842 to carry both trucks and water across the Luxulyan Valley for local mining entrepreneur Joseph Thomas Treffry. The first large civil engineering structure of its kind to be built in Cornwall and the only known viaduct in Britain to combine these two uses\, it is part of the Cornish Mining World Heritage Site as designated by UNESCO. It was purchased by our charity in 1988. \n  \nThis event is in aid of Cornwall Heritage Trust – the small\, independent charity protecting Cornwall’s heritage for everyone.
URL:https://www.cornwallheritagetrust.org/event/treffry-viaduct-beacon-lighting/
LOCATION:Treffry Viaduct\, Treffry Viaduct\, Par\, PL26 8YE\, United Kingdom
CATEGORIES:40th Anniversary Beacon Lighting
ATTACH;FMTTYPE=image/jpeg:https://www.cornwallheritagetrust.org/wp-content/uploads/2025/03/CHT-Events-TreffryViaduct-Tramway.jpg
ORGANIZER;CN="Cornwall Heritage Trust":MAILTO:tickets@cornwallheritagetrust.org
END:VEVENT
END:VCALENDAR