BEGIN:VCALENDAR
VERSION:2.0
PRODID:-//Cornwall Heritage Trust - ECPv6.15.20//NONSGML v1.0//EN
CALSCALE:GREGORIAN
METHOD:PUBLISH
X-ORIGINAL-URL:https://www.cornwallheritagetrust.org
X-WR-CALDESC:Events for Cornwall Heritage Trust
REFRESH-INTERVAL;VALUE=DURATION:PT1H
X-Robots-Tag:noindex
X-PUBLISHED-TTL:PT1H
BEGIN:VTIMEZONE
TZID:Europe/London
BEGIN:DAYLIGHT
TZOFFSETFROM:+0000
TZOFFSETTO:+0100
TZNAME:BST
DTSTART:20240331T010000
END:DAYLIGHT
BEGIN:STANDARD
TZOFFSETFROM:+0100
TZOFFSETTO:+0000
TZNAME:GMT
DTSTART:20241027T010000
END:STANDARD
BEGIN:DAYLIGHT
TZOFFSETFROM:+0000
TZOFFSETTO:+0100
TZNAME:BST
DTSTART:20250330T010000
END:DAYLIGHT
BEGIN:STANDARD
TZOFFSETFROM:+0100
TZOFFSETTO:+0000
TZNAME:GMT
DTSTART:20251026T010000
END:STANDARD
BEGIN:DAYLIGHT
TZOFFSETFROM:+0000
TZOFFSETTO:+0100
TZNAME:BST
DTSTART:20260329T010000
END:DAYLIGHT
BEGIN:STANDARD
TZOFFSETFROM:+0100
TZOFFSETTO:+0000
TZNAME:GMT
DTSTART:20261025T010000
END:STANDARD
END:VTIMEZONE
BEGIN:VEVENT
DTSTART;TZID=Europe/London:20250418T110000
DTEND;TZID=Europe/London:20250418T130000
DTSTAMP:20260421T125017
CREATED:20250415T093529Z
LAST-MODIFIED:20250415T093529Z
UID:10000045-1744974000-1744981200@www.cornwallheritagetrust.org
SUMMARY:CASPN Site Clearance
DESCRIPTION:Clear-up programme – 2025 \nFentonBebibell \nMeet 11am at Men-an-Tol layby SW 419 344 \nApproximately 2 hours. Tools and gloves provided. \nMore detailed and up to date information will be provided for each event on our Facebook page. \nSchedule may change depending on weather or availability of CASPN personnel. \nQueries can be sent to: caspnclearups@cornishancientsites.com
URL:https://www.cornwallheritagetrust.org/event/caspn-site-clearance-2/
LOCATION:Fenton Bebibell\, Men-an-Tol layby
CATEGORIES:Volunteer Opportunities
ATTACH;FMTTYPE=image/jpeg:https://www.cornwallheritagetrust.org/wp-content/uploads/2025/03/CASPN-Event.jpg
ORGANIZER;CN="Cornwall Heritage Trust":MAILTO:tickets@cornwallheritagetrust.org
END:VEVENT
END:VCALENDAR