BEGIN:VCALENDAR
VERSION:2.0
PRODID:-//Cornwall Heritage Trust - ECPv6.15.20//NONSGML v1.0//EN
CALSCALE:GREGORIAN
METHOD:PUBLISH
X-ORIGINAL-URL:https://www.cornwallheritagetrust.org
X-WR-CALDESC:Events for Cornwall Heritage Trust
REFRESH-INTERVAL;VALUE=DURATION:PT1H
X-Robots-Tag:noindex
X-PUBLISHED-TTL:PT1H
BEGIN:VTIMEZONE
TZID:Europe/London
BEGIN:DAYLIGHT
TZOFFSETFROM:+0000
TZOFFSETTO:+0100
TZNAME:BST
DTSTART:20240331T010000
END:DAYLIGHT
BEGIN:STANDARD
TZOFFSETFROM:+0100
TZOFFSETTO:+0000
TZNAME:GMT
DTSTART:20241027T010000
END:STANDARD
BEGIN:DAYLIGHT
TZOFFSETFROM:+0000
TZOFFSETTO:+0100
TZNAME:BST
DTSTART:20250330T010000
END:DAYLIGHT
BEGIN:STANDARD
TZOFFSETFROM:+0100
TZOFFSETTO:+0000
TZNAME:GMT
DTSTART:20251026T010000
END:STANDARD
BEGIN:DAYLIGHT
TZOFFSETFROM:+0000
TZOFFSETTO:+0100
TZNAME:BST
DTSTART:20260329T010000
END:DAYLIGHT
BEGIN:STANDARD
TZOFFSETFROM:+0100
TZOFFSETTO:+0000
TZNAME:GMT
DTSTART:20261025T010000
END:STANDARD
END:VTIMEZONE
BEGIN:VEVENT
DTSTART;TZID=Europe/London:20250518T140000
DTEND;TZID=Europe/London:20250518T160000
DTSTAMP:20260421T131736
CREATED:20250415T094033Z
LAST-MODIFIED:20250415T094033Z
UID:10000046-1747576800-1747584000@www.cornwallheritagetrust.org
SUMMARY:CASPN Site Clearance
DESCRIPTION:Cornish Ancient Sites Protection Network / Roesweyth Gwith Hen Leow Kernewek \nClear-up programme – 2025 \nSancreed Well & Chapel\nMeet in layby on Sancreed to St Just road SW 416 294 \nThird Sunday each month.  Start time 2pm. Approximately 2 hours. Tools and gloves provided. \nMore detailed and up to date information will be provided for each event on our Facebook page. \nSchedule may change depending on weather or availability of CASPN personnel. \nQueries can be sent to: caspnclearups@cornishancientsites.com\n \nDirections\nOS Grid Reference: SW 4180 2935 \nGuidelines\nPark in layby at SW417 294 on the Sancreed to St Just road\, opposite Newham Farm\nOS Grid Reference: SW 4180 2935\nOpen Street Map: 50.107972\,-5.612525\n\n 
URL:https://www.cornwallheritagetrust.org/event/caspn-site-clearance-3/
LOCATION:Sancreed Well
CATEGORIES:Volunteer Opportunities
ATTACH;FMTTYPE=image/jpeg:https://www.cornwallheritagetrust.org/wp-content/uploads/2025/03/CASPN-Event.jpg
ORGANIZER;CN="Cornwall Heritage Trust":MAILTO:tickets@cornwallheritagetrust.org
END:VEVENT
END:VCALENDAR