BEGIN:VCALENDAR
VERSION:2.0
PRODID:-//Cornwall Heritage Trust - ECPv6.15.20//NONSGML v1.0//EN
CALSCALE:GREGORIAN
METHOD:PUBLISH
X-WR-CALNAME:Cornwall Heritage Trust
X-ORIGINAL-URL:https://www.cornwallheritagetrust.org
X-WR-CALDESC:Events for Cornwall Heritage Trust
REFRESH-INTERVAL;VALUE=DURATION:PT1H
X-Robots-Tag:noindex
X-PUBLISHED-TTL:PT1H
BEGIN:VTIMEZONE
TZID:Europe/London
BEGIN:DAYLIGHT
TZOFFSETFROM:+0000
TZOFFSETTO:+0100
TZNAME:BST
DTSTART:20240331T010000
END:DAYLIGHT
BEGIN:STANDARD
TZOFFSETFROM:+0100
TZOFFSETTO:+0000
TZNAME:GMT
DTSTART:20241027T010000
END:STANDARD
BEGIN:DAYLIGHT
TZOFFSETFROM:+0000
TZOFFSETTO:+0100
TZNAME:BST
DTSTART:20250330T010000
END:DAYLIGHT
BEGIN:STANDARD
TZOFFSETFROM:+0100
TZOFFSETTO:+0000
TZNAME:GMT
DTSTART:20251026T010000
END:STANDARD
BEGIN:DAYLIGHT
TZOFFSETFROM:+0000
TZOFFSETTO:+0100
TZNAME:BST
DTSTART:20260329T010000
END:DAYLIGHT
BEGIN:STANDARD
TZOFFSETFROM:+0100
TZOFFSETTO:+0000
TZNAME:GMT
DTSTART:20261025T010000
END:STANDARD
END:VTIMEZONE
BEGIN:VEVENT
DTSTART;TZID=Europe/London:20250521T100000
DTEND;TZID=Europe/London:20250521T150000
DTSTAMP:20260421T125332
CREATED:20250415T094818Z
LAST-MODIFIED:20250415T094818Z
UID:10000047-1747821600-1747839600@www.cornwallheritagetrust.org
SUMMARY:Cornwall Heritage Trust Ranger Day
DESCRIPTION:Work such as this is a vital part of helping us protect these ancient monuments and the natural habitats that they are part of\, and we are hugely grateful for any support you can give. Participants are welcome to join as many or as few sessions as they wish to attend. \nTaking place at Castle an Dinas near St Columb Major\, this session will involve a flora survey.   \nNo experience is required and support and equipment will be provided. \nAlthough we are keen to accommodate all offers to volunteer\, on some occasions we are restricted to the number of volunteers that can participate on-site. Places in these instances will be allocated on a first-come first-served basis. \nTo register your interest please click here https://app.etapestry.com/onlineforms/TheCornwallHeritageTrustLimit/volunteercastle.html \nDirections\nSt Columb Major\nTR9 6JB \nMap Reference:\nOS Map 200; ref SW 945624 \nThree Words:\n///tiredness.thrilled.waggled \nGuidelines\nContact Sarah at Volunteering@cornwallheritagetrust.org
URL:https://www.cornwallheritagetrust.org/event/cornwall-heritage-trust-ranger-day-2/
LOCATION:Castle an Dinas (East)\, Castle an Dinas (East)\, St Columb Major\, Saint Columb\, TR9 6JB\, United Kingdom
CATEGORIES:Volunteer Opportunities
ATTACH;FMTTYPE=image/png:https://www.cornwallheritagetrust.org/wp-content/uploads/2025/04/CHT-RangerDays-CastleanDinas-2024.png
ORGANIZER;CN="Cornwall Heritage Trust":MAILTO:tickets@cornwallheritagetrust.org
END:VEVENT
END:VCALENDAR