BEGIN:VCALENDAR
VERSION:2.0
PRODID:-//Cornwall Heritage Trust - ECPv6.15.20//NONSGML v1.0//EN
CALSCALE:GREGORIAN
METHOD:PUBLISH
X-WR-CALNAME:Cornwall Heritage Trust
X-ORIGINAL-URL:https://www.cornwallheritagetrust.org
X-WR-CALDESC:Events for Cornwall Heritage Trust
REFRESH-INTERVAL;VALUE=DURATION:PT1H
X-Robots-Tag:noindex
X-PUBLISHED-TTL:PT1H
BEGIN:VTIMEZONE
TZID:Europe/London
BEGIN:DAYLIGHT
TZOFFSETFROM:+0000
TZOFFSETTO:+0100
TZNAME:BST
DTSTART:20240331T010000
END:DAYLIGHT
BEGIN:STANDARD
TZOFFSETFROM:+0100
TZOFFSETTO:+0000
TZNAME:GMT
DTSTART:20241027T010000
END:STANDARD
BEGIN:DAYLIGHT
TZOFFSETFROM:+0000
TZOFFSETTO:+0100
TZNAME:BST
DTSTART:20250330T010000
END:DAYLIGHT
BEGIN:STANDARD
TZOFFSETFROM:+0100
TZOFFSETTO:+0000
TZNAME:GMT
DTSTART:20251026T010000
END:STANDARD
BEGIN:DAYLIGHT
TZOFFSETFROM:+0000
TZOFFSETTO:+0100
TZNAME:BST
DTSTART:20260329T010000
END:DAYLIGHT
BEGIN:STANDARD
TZOFFSETFROM:+0100
TZOFFSETTO:+0000
TZNAME:GMT
DTSTART:20261025T010000
END:STANDARD
END:VTIMEZONE
BEGIN:VEVENT
DTSTART;TZID=Europe/London:20251019T140000
DTEND;TZID=Europe/London:20251019T160000
DTSTAMP:20260420T131125
CREATED:20250415T102156Z
LAST-MODIFIED:20250415T102156Z
UID:10000055-1760882400-1760889600@www.cornwallheritagetrust.org
SUMMARY:CASPN Site Clearance
DESCRIPTION:Cornish Ancient Sites Protection Network / Roesweyth Gwith Hen Leow Kernewek \nClear-up programme – 2025 \nMen-an-Tol barrows\nmeet at Men-an-Tol layby SW 419 344 \nThird Sunday each month.  Start time 2pm. Approximately 2 hours. Tools and gloves provided. \nMore detailed and up to date information will be provided for each event on our Facebook page. \nSchedule may change depending on weather or availability of CASPN personnel. \nQueries can be sent to: caspnclearups@cornishancientsites.com
URL:https://www.cornwallheritagetrust.org/event/caspn-site-clearance-8/
LOCATION:Men-an-Tol Barrows
CATEGORIES:Volunteer Opportunities
ATTACH;FMTTYPE=image/jpeg:https://www.cornwallheritagetrust.org/wp-content/uploads/2025/03/CASPN-Event.jpg
ORGANIZER;CN="Cornwall Heritage Trust":MAILTO:tickets@cornwallheritagetrust.org
END:VEVENT
END:VCALENDAR