BEGIN:VCALENDAR
VERSION:2.0
PRODID:-//Cornwall Heritage Trust - ECPv6.15.20//NONSGML v1.0//EN
CALSCALE:GREGORIAN
METHOD:PUBLISH
X-ORIGINAL-URL:https://www.cornwallheritagetrust.org
X-WR-CALDESC:Events for Cornwall Heritage Trust
REFRESH-INTERVAL;VALUE=DURATION:PT1H
X-Robots-Tag:noindex
X-PUBLISHED-TTL:PT1H
BEGIN:VTIMEZONE
TZID:Europe/London
BEGIN:DAYLIGHT
TZOFFSETFROM:+0000
TZOFFSETTO:+0100
TZNAME:BST
DTSTART:20240331T010000
END:DAYLIGHT
BEGIN:STANDARD
TZOFFSETFROM:+0100
TZOFFSETTO:+0000
TZNAME:GMT
DTSTART:20241027T010000
END:STANDARD
BEGIN:DAYLIGHT
TZOFFSETFROM:+0000
TZOFFSETTO:+0100
TZNAME:BST
DTSTART:20250330T010000
END:DAYLIGHT
BEGIN:STANDARD
TZOFFSETFROM:+0100
TZOFFSETTO:+0000
TZNAME:GMT
DTSTART:20251026T010000
END:STANDARD
BEGIN:DAYLIGHT
TZOFFSETFROM:+0000
TZOFFSETTO:+0100
TZNAME:BST
DTSTART:20260329T010000
END:DAYLIGHT
BEGIN:STANDARD
TZOFFSETFROM:+0100
TZOFFSETTO:+0000
TZNAME:GMT
DTSTART:20261025T010000
END:STANDARD
END:VTIMEZONE
BEGIN:VEVENT
DTSTART;TZID=Europe/London:20251221T140000
DTEND;TZID=Europe/London:20251221T160000
DTSTAMP:20260420T042215
CREATED:20250415T102631Z
LAST-MODIFIED:20251104T111849Z
UID:10000057-1766325600-1766332800@www.cornwallheritagetrust.org
SUMMARY:Volunteering Opportunity - CASPN Site Clearance
DESCRIPTION:Cornish Ancient Sites Protection Network / Roesweyth Gwith Hen Leow Kernewek \nClear-up programme – 2025 \nLesingey Round\nMeet in Lesingey Lane SW 451 303 \nThird Sunday each month.  Start time 2pm. Approximately 2 hours. Tools and gloves provided. \nMore detailed and up to date information will be provided for each event on our Facebook page. \nSchedule may change depending on weather or availability of CASPN personnel. \nQueries can be sent to: caspnclearups@cornishancientsites.com\n\n 
URL:https://www.cornwallheritagetrust.org/event/caspn-site-clearance-10/
LOCATION:Lesingey Round
CATEGORIES:Volunteer Opportunities
ATTACH;FMTTYPE=image/jpeg:https://www.cornwallheritagetrust.org/wp-content/uploads/2025/03/CASPN-Event.jpg
ORGANIZER;CN="Cornwall Heritage Trust":MAILTO:tickets@cornwallheritagetrust.org
END:VEVENT
END:VCALENDAR